BEGIN:VCALENDAR
VERSION:2.0
PRODID:-//Sabre//Sabre VObject 4.5.8//EN
CALSCALE:GREGORIAN
BEGIN:VEVENT
UID:sabre-vobject-dba24475-0c00-4123-bc4a-83b67dfed8a4
DTSTAMP:20260424T114351Z
SUMMARY:Hl. Messe
DESCRIPTION:https://pg-gundelfingen.bistum-augsburg-portal.de/hl-messe_id17
 06798
DTSTART;TZID=Europe/Berlin:20260418T173000
DURATION:PT30M
LOCATION:St. Martin
END:VEVENT
END:VCALENDAR
