BEGIN:VCALENDAR
VERSION:2.0
PRODID:-//Sabre//Sabre VObject 4.5.8//EN
CALSCALE:GREGORIAN
BEGIN:VEVENT
UID:sabre-vobject-f671fdcd-384e-4ce3-94f7-a5c80404fbb8
DTSTAMP:20260421T102314Z
SUMMARY:Kinderheim: Kinder-Gottesdienst "Gott lässt die Natur erwachen"
DESCRIPTION:https://pg-gundelfingen.bistum-augsburg-portal.de/kinderheim-ki
 nder-gottesdienst-gott-laesst-die-natur-erwachen_id1706822
DTSTART;TZID=Europe/Berlin:20260426T100000
DURATION:PT30M
LOCATION:St. Martin
END:VEVENT
END:VCALENDAR
