BEGIN:VCALENDAR
VERSION:2.0
PRODID:-//Sabre//Sabre VObject 4.5.8//EN
CALSCALE:GREGORIAN
BEGIN:VEVENT
UID:sabre-vobject-21b86b5e-86d7-41f3-bc73-3cec4ad54465
DTSTAMP:20260420T105524Z
SUMMARY:Tauffeier
DESCRIPTION:https://pg-gundelfingen.bistum-augsburg-portal.de/tauffeier_id1
 706902
DTSTART;TZID=Europe/Berlin:20260418T140000
DURATION:PT30M
LOCATION:St. Georg
END:VEVENT
END:VCALENDAR
