BEGIN:VCALENDAR
VERSION:2.0
PRODID:-//Sabre//Sabre VObject 4.5.8//EN
CALSCALE:GREGORIAN
BEGIN:VEVENT
UID:sabre-vobject-fb12e65e-3b14-406f-bf85-37a35990a24a
DTSTAMP:20260420T105227Z
SUMMARY:Pfarrhof: Kinder-Gottesdienst
DESCRIPTION:https://pg-gundelfingen.bistum-augsburg-portal.de/pfarrhof-kind
 er-gottesdienst_id1706907
DTSTART;TZID=Europe/Berlin:20260426T100000
DURATION:PT30M
LOCATION:St. Georg
END:VEVENT
END:VCALENDAR
