BEGIN:VCALENDAR
VERSION:2.0
PRODID:-//Sabre//Sabre VObject 4.5.8//EN
CALSCALE:GREGORIAN
BEGIN:VEVENT
UID:sabre-vobject-debf9ba0-cda5-42ca-a4da-adcc0b273eeb
DTSTAMP:20260421T102331Z
SUMMARY:Treffpunkt Friedhof Echenbrunn: Fußwallfahrt nach Buggenhofen
DESCRIPTION:https://pg-gundelfingen.bistum-augsburg-portal.de/treffpunkt-fr
 iedhof-echenbrunn-fusswallfahrt-nach-buggenhofen_id1745070
DTSTART;TZID=Europe/Berlin:20260502T040000
DURATION:PT30M
LOCATION:St. Martin
END:VEVENT
END:VCALENDAR
