BEGIN:VCALENDAR
VERSION:2.0
PRODID:-//Sabre//Sabre VObject 4.5.8//EN
CALSCALE:GREGORIAN
BEGIN:VEVENT
UID:sabre-vobject-a48387be-f3a2-4a56-a739-89ca14373323
DTSTAMP:20260421T102314Z
SUMMARY:Hl. Messe für die verst. Angehörigen der Pfarreiengemeinschaft un
 d im Gedenken an
DESCRIPTION:https://pg-gundelfingen.bistum-augsburg-portal.de/hl-messe-fuer
 -die-verst-angehoerigen-der-pfarreiengemeinschaft-und-im-gedenken-an_id174
 5071
DTSTART;TZID=Europe/Berlin:20260503T100000
DURATION:PT30M
LOCATION:St. Martin
END:VEVENT
END:VCALENDAR
