BEGIN:VCALENDAR
VERSION:2.0
PRODID:-//Sabre//Sabre VObject 4.5.8//EN
CALSCALE:GREGORIAN
BEGIN:VEVENT
UID:sabre-vobject-30feeeb6-450a-4cae-a12b-ced40e59abf9
DTSTAMP:20260421T102331Z
SUMMARY:Spitalkirche: Maiandacht
DESCRIPTION:https://pg-gundelfingen.bistum-augsburg-portal.de/spitalkirche-
 maiandacht_id1745082
DTSTART;TZID=Europe/Berlin:20260506T190000
DURATION:PT30M
LOCATION:St. Martin
END:VEVENT
END:VCALENDAR
