BEGIN:VCALENDAR
VERSION:2.0
PRODID:-//Sabre//Sabre VObject 4.5.8//EN
CALSCALE:GREGORIAN
BEGIN:VEVENT
UID:sabre-vobject-3d7956f6-43e3-4581-b193-4ecf1351f8e6
DTSTAMP:20260421T110308Z
SUMMARY:Maiandacht
DESCRIPTION:https://pg-gundelfingen.bistum-augsburg-portal.de/maiandacht_id
 1745174
DTSTART;TZID=Europe/Berlin:20260507T190000
DURATION:PT30M
LOCATION:St. Peter und Paul
END:VEVENT
END:VCALENDAR
