BEGIN:VCALENDAR
VERSION:2.0
PRODID:-//Sabre//Sabre VObject 4.5.8//EN
CALSCALE:GREGORIAN
BEGIN:VEVENT
UID:sabre-vobject-596062fa-8b87-4cee-96c9-5dec0e727a0a
DTSTAMP:20260421T103701Z
SUMMARY:Hl. Messe für die verst. Angehörigen der Pfarreiengemeinschaft un
 d im Gedenken an
DESCRIPTION:https://pg-gundelfingen.bistum-augsburg-portal.de/hl-messe-fuer
 -die-verst-angehoerigen-der-pfarreiengemeinschaft-und-im-gedenken-an_id174
 5398
DTSTART;TZID=Europe/Berlin:20260531T100000
DURATION:PT30M
LOCATION:St. Martin
END:VEVENT
END:VCALENDAR
