BEGIN:VCALENDAR
VERSION:2.0
PRODID:-//Sabre//Sabre VObject 4.5.8//EN
CALSCALE:GREGORIAN
BEGIN:VEVENT
UID:sabre-vobject-f358ad9a-2851-424d-8b76-08f2dc4b5aea
DTSTAMP:20260421T151056Z
SUMMARY:Maiandacht\; (musik. Gestaltung: Medlinger Dreigesang)
DESCRIPTION:https://pg-gundelfingen.bistum-augsburg-portal.de/maiandacht-mu
 sik-gestaltung-medlinger-dreigesang_id1745412
DTSTART;TZID=Europe/Berlin:20260503T183000
DURATION:PT30M
LOCATION:Mariä Himmelfahrt
END:VEVENT
END:VCALENDAR
